BEGIN:VCALENDAR
VERSION:2.0
PRODID:-//ChurchDev//Events//EN
CALSCALE:GREGORIAN
METHOD:PUBLISH
BEGIN:VEVENT
UID:3928-20200405@www.newlifetabernacleofcorcoran.com
SUMMARY:Golden Agers Lunch After Morning Service
DTSTART:20200405T210000Z
DTEND:20200405T220000Z
DESCRIPTION:https://www.newlifetabernacleofcorcoran.com/events/golden-agers-lunch-after-morning-service/
LOCATION:801 Hale Ave. Corcoran\, CA 93212
URL:https://www.newlifetabernacleofcorcoran.com/events/golden-agers-lunch-after-morning-service/
DTSTAMP:20260419T223413Z
END:VEVENT
END:VCALENDAR
