BEGIN:VCALENDAR
VERSION:2.0
PRODID:-//ChurchDev//Events//EN
CALSCALE:GREGORIAN
METHOD:PUBLISH
BEGIN:VEVENT
UID:5473-20241002@www.newlifetabernacleofcorcoran.com
SUMMARY:Wednesday Night Bible Study
DTSTART:20241003T030000Z
DTEND:20241003T040000Z
DESCRIPTION:https://www.newlifetabernacleofcorcoran.com/events/wednesday-night-bible-study-3/
LOCATION:801 Hale Ave. Corcoran\, CA 93212
URL:https://www.newlifetabernacleofcorcoran.com/events/wednesday-night-bible-study-3/
DTSTAMP:20260419T204500Z
END:VEVENT
END:VCALENDAR
