BEGIN:VCALENDAR
VERSION:2.0
PRODID:-//ChurchDev//Events//EN
CALSCALE:GREGORIAN
METHOD:PUBLISH
BEGIN:VEVENT
UID:5474-20241006@www.newlifetabernacleofcorcoran.com
SUMMARY:Sunday Morning Worship
DTSTART:20241006T180000Z
DTEND:20241006T190000Z
DESCRIPTION:https://www.newlifetabernacleofcorcoran.com/events/sunday-morning-worship-2/
LOCATION:801 Hale Ave. Corcoran\, CA 93212
URL:https://www.newlifetabernacleofcorcoran.com/events/sunday-morning-worship-2/
DTSTAMP:20260419T204132Z
END:VEVENT
END:VCALENDAR
