BEGIN:VCALENDAR
VERSION:2.0
PRODID:-//ChurchDev//Events//EN
CALSCALE:GREGORIAN
METHOD:PUBLISH
BEGIN:VEVENT
UID:6990-20260403@www.newlifetabernacleofcorcoran.com
SUMMARY:Church Connect
DTSTART:20260404T030000Z
DTEND:20260404T040000Z
DESCRIPTION:Church Connect is our weekly Friday night gathering at the West Facility — a safe\, family‑friendly place where our church community comes together to fellowship\, build relationships\, and enjoy time together. It’s a relaxed environment where families can hang out\, play games\, laugh\, and strengthen the bonds that make New Life Tabernacle feel like home. Whether you’re new to NLT or have been here for years\, Church Connect is a welcoming space for all ages to connect\, grow\, and enjoy upl...\\n\\nhttps://www.newlifetabernacleofcorcoran.com/events/church-connect-11/
LOCATION:801 Hale Ave. Corcoran\, CA 93212
URL:https://www.newlifetabernacleofcorcoran.com/events/church-connect-11/
DTSTAMP:20260419T204500Z
END:VEVENT
END:VCALENDAR
